BEGIN:VCALENDAR
VERSION:2.0
PRODID:-//wp-events-plugin.com//7.2.3.1//EN
TZID:Europe/London
X-WR-TIMEZONE:Europe/London
BEGIN:VEVENT
UID:62@choosehowyoumove.co.uk
DTSTART;TZID=Europe/London:20210508T110000
DTEND;TZID=Europe/London:20210508T123000
DTSTAMP:20210415T155629Z
URL:https://www.choosehowyoumove.co.uk/events/group-walks-factory-trails-l
 eicesters-former-knitting-industry/
SUMMARY:Group Walks: Factory Trails - Leicester's Former Knitting Industry
DESCRIPTION:Group Walks: Factory Trails - Leicester's Former Knitting Indus
 try\nSaturday 8 May at 11am\nStart location to be confirmed on booking\nAr
 ound 90 minutes\, steady pace\nWe delve again into Leicester’s indust
 rial past with this brand-new route. This time we take in some of the 
 large companies associated with Leicester’s textile industry who enjoye
 d success well into the 20th century. We pass some well-known names from
  Leicester’s industrial hay-day who provided employment and brought weal
 th to the city.\nOur groups are smaller than before so booking is essenti
 al for all participants (including children under 16\, who must be accomp
 anied by an adult) – please see ‘how to book’ below. Please do not t
 urn up at walks if you have not booked – we regret you will be turned aw
 ay. \nDress for the weather\nPlease remember to dress appropriately for t
 he weather to ensure you are comfortable. Walkers are recommended to bring
  a bottle of water with them.\nGroup size\nGroup walks will be smaller tha
 n before to stay within the ‘rule of 6’ which allows a maximum of 6 
 people from different households to meet outdoors in a public space. This 
 includes our volunteers who lead and assist the walk. To allow opportuniti
 es to others\, a maximum of 2 people from the same household/ support bubb
 le may attend. We are sorry that we cannot accommodate more people at this
  time. Please follow instructions for booking places and also observe the 
 guidance below with regards to Covid-19. \nCovid-19 and group walks\n\n	P
 lease do not attend a walk if you or someone in your household/support bub
 ble has symptoms of Covid-19. Instead\, please stay home\, self-isolate an
 d book a test. Information about how to order a test online or by phone is
  detailed on the on the Leicester City Council website.  Please do not a
 ttend a walk if you are awaiting the results of a Covid-19 test. The NHS 
 website provides information about symptoms and more.\n	During walks\, we 
 kindly ask walkers to maintain the 2m social distancing from each other a
 nd members of the public (or at least 1m if you are wearing a face mask). 
 Please respect other people's space.\n	Take hygiene precautions when you a
 re outside (you may wish to carry your own hand sanitizer) and wash your h
 ands as soon as you are back indoors.\n\nSelf-guided routes\nIf you have b
 een unable to book onto one of our group walks\, or you prefer to explore 
 with your family or friends\, self-guided routes are available to download
  from our routes page or via the Go Jauntly smartphone app. Enjoy explo
 ring Leicester this spring.
CATEGORIES:Walking
END:VEVENT
BEGIN:VTIMEZONE
TZID:Europe/London
X-LIC-LOCATION:Europe/London
BEGIN:DAYLIGHT
DTSTART:20210328T020000
TZOFFSETFROM:+0000
TZOFFSETTO:+0100
TZNAME:BST
END:DAYLIGHT
END:VTIMEZONE
END:VCALENDAR