BEGIN:VCALENDAR
VERSION:2.0
PRODID:-//wp-events-plugin.com//7.2.3.1//EN
TZID:Europe/London
X-WR-TIMEZONE:Europe/London
BEGIN:VEVENT
UID:61@choosehowyoumove.co.uk
DTSTART;TZID=Europe/London:20210512T110000
DTEND;TZID=Europe/London:20210512T123000
DTSTAMP:20210415T145600Z
URL:https://www.choosehowyoumove.co.uk/events/group-walks-fosse-rec-to-the
 -rally-and-stokeswood-park/
SUMMARY:Group Walks: Fosse Rec to the Rally and Stokeswood Park
DESCRIPTION:Group Walks: Fosse Rec to the Rally and Stokeswood Park\nWednes
 day 12 May at 11am\nLocation to be confirmed on booking\nAround 75 minutes
 \, medium pace\nJoin us for a pleasant stroll through three leafy green pa
 rks linked by city streets\, and pass the historic site of Leicester’s f
 irst railway line.\nOur groups are smaller than before so booking is esse
 ntial for all participants (including children under 16\, who must be acc
 ompanied by an adult) – please see ‘how to book’ below. Please do no
 t turn up at walks if you have not booked – we regret you will be turned
  away. \nDress for the weather\nPlease remember to dress appropriately fo
 r the weather to ensure you are comfortable. Walkers are recommended to br
 ing a bottle of water with them.\nGroup size\nGroup walks will be smaller 
 than before to stay within the ‘rule of 6’ which allows a maximum of
  6 people from different households to meet outdoors in a public space. Th
 is includes our volunteers who lead and assist the walk. To allow opportun
 ities to others\, a maximum of 2 people from the same household/ support b
 ubble may attend. We are sorry that we cannot accommodate more people at t
 his time. Please follow instructions for booking places and also observe t
 he guidance below with regards to Covid-19. \nCovid-19 and group walks\n\
 n	Please do not attend a walk if you or someone in your household/support 
 bubble has symptoms of Covid-19. Instead\, please stay home\, self-isolate
  and book a test. Information about how to order a test online or by phone
  is detailed on the on the Leicester City Council website.  Please do no
 t attend a walk if you are awaiting the results of a Covid-19 test. The N
 HS website provides information about symptoms and more.\n	During walks\, 
 we kindly ask walkers to maintain the 2m social distancing from each othe
 r and members of the public (or at least 1m if you are wearing a face mask
 ). Please respect other people's space.\n	Take hygiene precautions when yo
 u are outside (you may wish to carry your own hand sanitizer) and wash you
 r hands as soon as you are back indoors.\n\nSelf-guided routes\nIf you hav
 e been unable to book onto one of our group walks\, or you prefer to explo
 re with your family or friends\, self-guided routes are available to downl
 oad from our routes page or via the Go Jauntly smartphone app. Enjoy ex
 ploring Leicester this spring.
CATEGORIES:Walking
END:VEVENT
BEGIN:VTIMEZONE
TZID:Europe/London
X-LIC-LOCATION:Europe/London
BEGIN:DAYLIGHT
DTSTART:20210328T020000
TZOFFSETFROM:+0000
TZOFFSETTO:+0100
TZNAME:BST
END:DAYLIGHT
END:VTIMEZONE
END:VCALENDAR