BEGIN:VCALENDAR
VERSION:2.0
PRODID:-//wp-events-plugin.com//7.2.3.1//EN
TZID:Europe/London
X-WR-TIMEZONE:Europe/London
BEGIN:VEVENT
UID:175@choosehowyoumove.co.uk
DTSTART;TZID=Europe/London:20220402T103000
DTEND;TZID=Europe/London:20220402T120000
DTSTAMP:20220302T184343Z
URL:https://www.choosehowyoumove.co.uk/events/group-walks-green-parks-of-n
 orthwest-leicester-3/
SUMMARY:Group Walks: Green parks of northwest Leicester
DESCRIPTION:Step out for a walk through four wonderful green parks of north
  west Leicester - Beaumont Park\, Bennion Pools\, Castle Hill Country Park
  and Astill Lodge Park.
CATEGORIES:Walking
END:VEVENT
BEGIN:VTIMEZONE
TZID:Europe/London
X-LIC-LOCATION:Europe/London
BEGIN:DAYLIGHT
DTSTART:20220327T020000
TZOFFSETFROM:+0000
TZOFFSETTO:+0100
TZNAME:BST
END:DAYLIGHT
END:VTIMEZONE
END:VCALENDAR