BEGIN:VCALENDAR
VERSION:2.0
PRODID:-//wp-events-plugin.com//7.2.3.1//EN
TZID:Europe/London
X-WR-TIMEZONE:Europe/London
BEGIN:VEVENT
UID:143@choosehowyoumove.co.uk
DTSTART;TZID=Europe/London:20211023T110000
DTEND;TZID=Europe/London:20211023T123000
DTSTAMP:20211007T172941Z
URL:https://www.choosehowyoumove.co.uk/events/group-walks-humberstone-park
 -to-monks-rest-gardens-old-humberstone/
SUMMARY:Group Walks: Humberstone Park to Monks Rest Gardens & Old Humbersto
 ne
DESCRIPTION:Join us for a walk taking in the pleasant green spaces of Humbe
 rstone Park and Monks Rest Gardens via modern residential streets. We also
  pass through old Humberstone Village and include a little information alo
 ng the way. At around 2.5 miles this is one of our longer walks\, led at a
  medium pace. Booking is essential.\nPublic toilets are available in Humbe
 rstone Park.
CATEGORIES:Walking
END:VEVENT
BEGIN:VTIMEZONE
TZID:Europe/London
X-LIC-LOCATION:Europe/London
BEGIN:DAYLIGHT
DTSTART:20210328T020000
TZOFFSETFROM:+0000
TZOFFSETTO:+0100
TZNAME:BST
END:DAYLIGHT
END:VTIMEZONE
END:VCALENDAR