BEGIN:VCALENDAR
VERSION:2.0
PRODID:-//wp-events-plugin.com//7.2.3.1//EN
TZID:Europe/London
X-WR-TIMEZONE:Europe/London
BEGIN:VEVENT
UID:364@choosehowyoumove.co.uk
DTSTART;TZID=Europe/London;VALUE=DATE:20250801
DTEND;TZID=Europe/London;VALUE=DATE:20250901
DTSTAMP:20250725T114948Z
URL:https://www.choosehowyoumove.co.uk/events/group-walks-in-august-3/
SUMMARY:Group Walks in August
DESCRIPTION:Welcome to our group walks programme for August 2025! Walks are
  free to attend but places must be booked. For full details of each walk a
 nd to book\, please visit Eventbrite via the links displayed. Alternativel
 y\, book by phone during office hours.
CATEGORIES:Family,Heritage,Walking
END:VEVENT
BEGIN:VTIMEZONE
TZID:Europe/London
X-LIC-LOCATION:Europe/London
BEGIN:DAYLIGHT
DTSTART:20250330T020000
TZOFFSETFROM:+0000
TZOFFSETTO:+0100
TZNAME:BST
END:DAYLIGHT
END:VTIMEZONE
END:VCALENDAR