BEGIN:VCALENDAR
VERSION:2.0
PRODID:-//wp-events-plugin.com//7.2.3.1//EN
TZID:Europe/London
X-WR-TIMEZONE:Europe/London
BEGIN:VEVENT
UID:417@choosehowyoumove.co.uk
DTSTART;TZID=Europe/London;VALUE=DATE:20260101
DTEND;TZID=Europe/London;VALUE=DATE:20260201
DTSTAMP:20260109T132201Z
URL:https://www.choosehowyoumove.co.uk/events/group-walks-in-january-2026/
SUMMARY:Group Walks in January 2026
DESCRIPTION:Welcome to our group walks programme for January 2026! Walks ar
 e free to attend but places must be booked. For full details of each walk 
 and to book\, please visit Eventbrite via the links displayed. Alternative
 ly\, book by phone during office hours.
CATEGORIES:Family,Heritage,Walking
END:VEVENT
BEGIN:VTIMEZONE
TZID:Europe/London
X-LIC-LOCATION:Europe/London
BEGIN:STANDARD
DTSTART:20251026T010000
TZOFFSETFROM:+0100
TZOFFSETTO:+0000
TZNAME:GMT
END:STANDARD
END:VTIMEZONE
END:VCALENDAR