BEGIN:VCALENDAR
VERSION:2.0
PRODID:-//wp-events-plugin.com//7.2.3.1//EN
TZID:Europe/London
X-WR-TIMEZONE:Europe/London
BEGIN:VEVENT
UID:249@choosehowyoumove.co.uk
DTSTART;TZID=Europe/London;VALUE=DATE:20230601
DTEND;TZID=Europe/London;VALUE=DATE:20230701
DTSTAMP:20230615T180702Z
URL:https://www.choosehowyoumove.co.uk/events/group-walks-in-june/
SUMMARY:Group Walks in June
DESCRIPTION:This is our group walks programme for June 2023.\n\nWalks are f
 ree to attend but places must be booked. For full details of each walk and
  to book\, please visit Eventbrite via the links below. Alternatively\, bo
 ok by phone during office hours.\n\n\nInformation about the pace of our wa
 lks (and much more) can be found on our Leicester City Council Group Walks
  page.\n*The walk duration includes pauses for information along the way.
 \n\n\n\nDate and time\nWalk\nStarting from\nPace &amp\; Duration* \nFor f
 ull details visit Eventbrite\n\n\nWednesday 7 June at 3pm\nGroup Walk to t
 he University's Heritage Hub Launch\nLeicester Museum &amp\; Art Gallery\,
  New Walk\nSteady pace\, for around 45-60 minutes.\nDetails on Eventbrite\
 n\n\nSaturday 10 June at 11am\nGroup Walk from Aylestone Hall Gardens to A
 ylestone Meadows\, return\nAylestone Hall Gardens\, Hall Lane off Ayleston
 e Road.  \nSteady pace\, for around 75-90 minutes.\nDetails on Eventbrit
 e\n\n\nThursday 15 June at 10am\nWalk on the Wild Side\, Watermead Park*\n
 Watermead South car park\, Alderton Close\, off Melton Road. \nSteady pac
 e\, for 60-90 minutes.\nDetails on Eventbrite\n\n\nSaturday 17 June at 11a
 m\nEvington Park to Shady Lane Arboretum\nEvington Park car park\, off The
  Common\nSteady pace\, for up to 90 minutes\nDetails on Eventbrite\n\n\nTh
 ursday 22 June at 11am\nLet's Get Together Social Stroll\nVictoria Park ma
 in gates\, London Road\, near junction with Granville Road\nSteady pace\, 
 30 minute walk + a visit to the University of Leicester Library &amp\; Arc
 hives.  Allow 90 mins total.\nDetails on Eventbrite\n\n\nSunday 25 June a
 t 1pm\nGroup Walk - On the Trail of Joseph Merrick in Victorian Leicester 
 (part of the Open Streets event)\nVictoria Park main gates\, London Road\n
 Steady pace\, for up to 90 minutes.\nDetails on Eventbrite\n\n\n \n \n 
 \n \n \n\n\n\n*We regret we don't allow dogs on our wildlife-themed walk
 s. \nInformation about the pace of our walks (and much more) can be found
  on our Leicester City Council Group Walks page.\nMore walks will be adde
 d to the programme in time. Please watch this space...
CATEGORIES:Family,Heritage,Walking
END:VEVENT
BEGIN:VTIMEZONE
TZID:Europe/London
X-LIC-LOCATION:Europe/London
BEGIN:DAYLIGHT
DTSTART:20230326T020000
TZOFFSETFROM:+0000
TZOFFSETTO:+0100
TZNAME:BST
END:DAYLIGHT
END:VTIMEZONE
END:VCALENDAR