BEGIN:VCALENDAR
VERSION:2.0
PRODID:-//wp-events-plugin.com//7.2.3.1//EN
TZID:Europe/London
X-WR-TIMEZONE:Europe/London
BEGIN:VEVENT
UID:149@choosehowyoumove.co.uk
DTSTART;TZID=Europe/London:20211113T110000
DTEND;TZID=Europe/London:20211113T123000
DTSTAMP:20211007T171217Z
URL:https://www.choosehowyoumove.co.uk/events/group-walks-knighton-park-to
 -old-knighton-village-and-st-mary-magdalen-church/
SUMMARY:Group Walks: Knighton Park to old Knighton village and St Mary Magd
 alen Church
DESCRIPTION:This figure-of-eight walk starts in beautiful Knighton Park and
  uses suburban streets and gittys to explore the residential area north of
  the park. The route passes old Knighton village\, St Mary Magdalen Church
  and the Attenbourgh Arboretum along the way. We then return to the park. 
 At just under 3 miles\, this is one of our longer walks\, led at a medium 
 pace.
CATEGORIES:Walking
END:VEVENT
BEGIN:VTIMEZONE
TZID:Europe/London
X-LIC-LOCATION:Europe/London
BEGIN:STANDARD
DTSTART:20211031T010000
TZOFFSETFROM:+0100
TZOFFSETTO:+0000
TZNAME:GMT
END:STANDARD
END:VTIMEZONE
END:VCALENDAR