BEGIN:VCALENDAR
VERSION:2.0
PRODID:-//wp-events-plugin.com//7.2.3.1//EN
TZID:Europe/London
X-WR-TIMEZONE:Europe/London
BEGIN:VEVENT
UID:58@choosehowyoumove.co.uk
DTSTART;TZID=Europe/London:20210501T110000
DTEND;TZID=Europe/London:20210501T123000
DTSTAMP:20210415T153026Z
URL:https://www.choosehowyoumove.co.uk/events/group-walks-knighton-park-to
 -st-mary-magdalen-church-2/
SUMMARY:Group Walks: Knighton Park to St Mary Magdalen Church
DESCRIPTION:Knighton Park to St Mary Magdalen Church\nSaturday 1 May at 11a
 m\nLocation to be confirmed on booking\nAround 90 minutes\, medium pace\nT
 his figure-of-eight walk starts in beautiful Knighton Park and uses suburb
 an streets and gittys to explore the residential area north of the park. T
 he route passes old Knighton village\, St Mary Magdalen Church and the Att
 enbourgh Arboretum along the way. At just under 3 miles\, this is one of o
 ur longer walks\, led at a medium pace.\nOur groups are smaller than befor
 e so booking is essential for all participants (including children under
  16\, who must be accompanied by an adult) – please see ‘how to book
 ’ below. Please do not turn up at walks if you have not booked – we re
 gret you will be turned away. \nDress for the weather\nPlease remember to
  dress appropriately for the weather to ensure you are comfortable. Walker
 s are recommended to bring a bottle of water with them.\nGroup size\nGroup
  walks will be smaller than before to stay within the ‘rule of 6’ wh
 ich allows a maximum of 6 people from different households to meet outdoor
 s in a public space. This includes our volunteers who lead and assist the 
 walk. To allow opportunities to others\, a maximum of 2 people from the sa
 me household/ support bubble may attend. We are sorry that we cannot accom
 modate more people at this time. Please follow instructions for booking pl
 aces and also observe the guidance below with regards to Covid-19. \nCovi
 d-19 and group walks\n\n	Please do not attend a walk if you or someone in 
 your household/support bubble has symptoms of Covid-19. Instead\, please s
 tay home\, self-isolate and book a test. Information about how to order a 
 test online or by phone is detailed on the on the Leicester City Council 
 website.  Please do not attend a walk if you are awaiting the results of 
 a Covid-19 test. The NHS website provides information about symptoms and 
 more.\n	During walks\, we kindly ask walkers to maintain the 2m social di
 stancing from each other and members of the public (or at least 1m if you 
 are wearing a face mask). Please respect other people's space.\n	Take hygi
 ene precautions when you are outside (you may wish to carry your own hand 
 sanitizer) and wash your hands as soon as you are back indoors.\n\nSelf-gu
 ided routes\nIf you have been unable to book onto one of our group walks\,
  or you prefer to explore with your family or friends\, self-guided routes
  are available to download from our routes page or via the Go Jauntly s
 martphone app. Enjoy exploring Leicester this spring.
CATEGORIES:Walking
END:VEVENT
BEGIN:VTIMEZONE
TZID:Europe/London
X-LIC-LOCATION:Europe/London
BEGIN:DAYLIGHT
DTSTART:20210328T020000
TZOFFSETFROM:+0000
TZOFFSETTO:+0100
TZNAME:BST
END:DAYLIGHT
END:VTIMEZONE
END:VCALENDAR