BEGIN:VCALENDAR
VERSION:2.0
PRODID:-//wp-events-plugin.com//7.2.3.1//EN
TZID:Europe/London
X-WR-TIMEZONE:Europe/London
BEGIN:VEVENT
UID:54@choosehowyoumove.co.uk
DTSTART;TZID=Europe/London:20210420T110000
DTEND;TZID=Europe/London:20210420T123000
DTSTAMP:20210415T145922Z
URL:https://www.choosehowyoumove.co.uk/events/group-walks-knighton-park-to
 -st-mary-magdalen-church/
SUMMARY:Group Walks: Knighton Park to St Mary Magdalen Church
DESCRIPTION:Knighton Park to St Mary Magdalen Church\nTuesday 20 April 11am
 \nLocation to be confirmed on booking\nAround 90 minutes\, medium pace\nTh
 is figure-of-eight walk starts in beautiful Knighton Park and uses suburba
 n streets and gittys to explore the residential area north of the park. Th
 e route passes old Knighton village\, St Mary Magdalen Church and the Atte
 nbourgh Arboretum along the way. At just under 3 miles\, this is one of ou
 r longer walks\, led at a medium pace.\nOur groups are smaller than before
  so booking is essential for all participants (including children under 
 16\, who must be accompanied by an adult) – please see ‘how to book’
  below. Please do not turn up at walks if you have not booked – we regre
 t you will be turned away. \nDress for the weather\nPlease remember to dr
 ess appropriately for the weather to ensure you are comfortable. Walkers a
 re recommended to bring a bottle of water with them.\nGroup size\nGroup wa
 lks will be smaller than before to stay within the ‘rule of 6’ which
  allows a maximum of 6 people from different households to meet outdoors i
 n a public space. This includes our volunteers who lead and assist the wal
 k. To allow opportunities to others\, a maximum of 2 people from the same 
 household/ support bubble may attend. We are sorry that we cannot accommod
 ate more people at this time. Please follow instructions for booking place
 s and also observe the guidance below with regards to Covid-19. \nCovid-1
 9 and group walks\n\n	Please do not attend a walk if you or someone in you
 r household/support bubble has symptoms of Covid-19. Instead\, please stay
  home\, self-isolate and book a test. Information about how to order a tes
 t online or by phone is detailed on the on the Leicester City Council web
 site.  Please do not attend a walk if you are awaiting the results of a C
 ovid-19 test. The NHS website provides information about symptoms and mor
 e.\n	During walks\, we kindly ask walkers to maintain the 2m social dista
 ncing from each other and members of the public (or at least 1m if you are
  wearing a face mask). Please respect other people's space.\n	Take hygiene
  precautions when you are outside (you may wish to carry your own hand san
 itizer) and wash your hands as soon as you are back indoors.\n\nSelf-guide
 d routes\nIf you have been unable to book onto one of our group walks\, or
  you prefer to explore with your family or friends\, self-guided routes ar
 e available to download from our routes page or via the Go Jauntly smar
 tphone app. Enjoy exploring Leicester this spring.
CATEGORIES:Walking
END:VEVENT
BEGIN:VTIMEZONE
TZID:Europe/London
X-LIC-LOCATION:Europe/London
BEGIN:DAYLIGHT
DTSTART:20210328T020000
TZOFFSETFROM:+0000
TZOFFSETTO:+0100
TZNAME:BST
END:DAYLIGHT
END:VTIMEZONE
END:VCALENDAR