BEGIN:VCALENDAR
VERSION:2.0
PRODID:-//wp-events-plugin.com//7.2.3.1//EN
TZID:Europe/London
X-WR-TIMEZONE:Europe/London
BEGIN:VEVENT
UID:147@choosehowyoumove.co.uk
DTSTART;TZID=Europe/London:20211106T110000
DTEND;TZID=Europe/London:20211106T121500
DTSTAMP:20211029T202338Z
URL:https://www.choosehowyoumove.co.uk/events/group-walks-places-associate
 d-with-leicesters-wartime-history-2/
SUMMARY:Group Walks: Places associated with Leicester's wartime history
DESCRIPTION:Join our group walk to visit city locations associated with Lei
 cester's Wartime past including the Boer War and the World Wars. The walk 
 is around 2 miles\, led at a medium pace. Booking is essential as places a
 re limited.
CATEGORIES:Walking
END:VEVENT
BEGIN:VTIMEZONE
TZID:Europe/London
X-LIC-LOCATION:Europe/London
BEGIN:STANDARD
DTSTART:20211031T010000
TZOFFSETFROM:+0100
TZOFFSETTO:+0000
TZNAME:GMT
END:STANDARD
END:VTIMEZONE
END:VCALENDAR