BEGIN:VCALENDAR
VERSION:2.0
PRODID:-//wp-events-plugin.com//7.2.3.1//EN
TZID:Europe/London
X-WR-TIMEZONE:Europe/London
BEGIN:VEVENT
UID:76@choosehowyoumove.co.uk
DTSTART;TZID=Europe/London:20210615T110000
DTEND;TZID=Europe/London:20210615T121500
DTSTAMP:20210514T142651Z
URL:https://www.choosehowyoumove.co.uk/events/group-walks-rushey-fields-re
 c-to-appleton-park/
SUMMARY:Group Walks: Rushey Fields Rec to Appleton Park
DESCRIPTION:We visit Appleton Park  - a hidden green space in Rushey Mead -
  before returning to Rushey Fields Rec via footpaths and suburban streets.
CATEGORIES:Walking
END:VEVENT
BEGIN:VTIMEZONE
TZID:Europe/London
X-LIC-LOCATION:Europe/London
BEGIN:DAYLIGHT
DTSTART:20210328T020000
TZOFFSETFROM:+0000
TZOFFSETTO:+0100
TZNAME:BST
END:DAYLIGHT
END:VTIMEZONE
END:VCALENDAR