BEGIN:VCALENDAR
VERSION:2.0
PRODID:-//wp-events-plugin.com//7.2.3.1//EN
TZID:Europe/London
X-WR-TIMEZONE:Europe/London
BEGIN:VEVENT
UID:209@choosehowyoumove.co.uk
DTSTART;TZID=Europe/London:20221002T110000
DTEND;TZID=Europe/London:20221002T123000
DTSTAMP:20220826T153403Z
URL:https://www.choosehowyoumove.co.uk/events/guided-walk-roamin-through-r
 oman-leicester/
SUMMARY:Guided Walk - Roamin' Through Roman Leicester
DESCRIPTION:As part of the Jewry Wall Museum’s ‘Our Roman City’ proje
 ct*\, join local historian Jim Butler (of Hidden Histories of Leicester) o
 n an exploration of the epic rise and fall of Roman Britain as told throug
 h the stories left by the people and places of Roman Leicester.
CATEGORIES:Walking
END:VEVENT
BEGIN:VTIMEZONE
TZID:Europe/London
X-LIC-LOCATION:Europe/London
BEGIN:DAYLIGHT
DTSTART:20220327T020000
TZOFFSETFROM:+0000
TZOFFSETTO:+0100
TZNAME:BST
END:DAYLIGHT
END:VTIMEZONE
END:VCALENDAR