BEGIN:VCALENDAR
VERSION:2.0
PRODID:-//wp-events-plugin.com//7.2.3.1//EN
TZID:Europe/London
X-WR-TIMEZONE:Europe/London
BEGIN:VEVENT
UID:299@choosehowyoumove.co.uk
DTSTART;TZID=Europe/London:20250120T110000
DTEND;TZID=Europe/London:20250120T150000
DTSTAMP:20250107T082051Z
URL:https://www.choosehowyoumove.co.uk/events/public-transport-network-rev
 iew-syston/
SUMMARY:Public Transport Network Review - Syston
DESCRIPTION:The Leicestershire passenger transport network review will supp
 ort and reshape the bus network that is financially supported by Leicester
 shire County Council. It will involve partnership working through Leicest
 ershire Buses and working with operators directly. The BSIP+ grant fundin
 g award\, means that the County Council is able to consider new and differ
 ent approaches to how it supports the local bus service network. Read more
  about it here.
CATEGORIES:Public Transport
END:VEVENT
BEGIN:VTIMEZONE
TZID:Europe/London
X-LIC-LOCATION:Europe/London
BEGIN:STANDARD
DTSTART:20241027T010000
TZOFFSETFROM:+0100
TZOFFSETTO:+0000
TZNAME:GMT
END:STANDARD
END:VTIMEZONE
END:VCALENDAR