BEGIN:VCALENDAR
VERSION:2.0
PRODID:-//wp-events-plugin.com//7.2.3.1//EN
TZID:Europe/London
X-WR-TIMEZONE:Europe/London
BEGIN:VEVENT
UID:255@choosehowyoumove.co.uk
DTSTART;TZID=Europe/London;VALUE=DATE:20230717
DTEND;TZID=Europe/London;VALUE=DATE:20230826
DTSTAMP:20230807T205135Z
URL:https://www.choosehowyoumove.co.uk/events/schools-out-summer-strolls/
SUMMARY:School's Out - Summer Strolls
DESCRIPTION:Join us for family-friendly strolls during July and August! \n
 Our family-friendly strolls are short and steady paced\, with fun themes a
 nd activities for kids and parents. Aimed at younger kids and primary-scho
 ol aged children\, although older children are welcome to attend. All chil
 dren must be accompanied by an adult.\nWalks are free to attend\, booking 
 essential.  For full details of each walk and to book\, please visit Even
 tbrite via the links below or phone during office hours.
CATEGORIES:Family,Walking
END:VEVENT
BEGIN:VTIMEZONE
TZID:Europe/London
X-LIC-LOCATION:Europe/London
BEGIN:DAYLIGHT
DTSTART:20230326T020000
TZOFFSETFROM:+0000
TZOFFSETTO:+0100
TZNAME:BST
END:DAYLIGHT
END:VTIMEZONE
END:VCALENDAR