BEGIN:VCALENDAR
VERSION:2.0
PRODID:-//wp-events-plugin.com//7.2.3.1//EN
TZID:Europe/London
X-WR-TIMEZONE:Europe/London
BEGIN:VEVENT
UID:291@choosehowyoumove.co.uk
DTSTART;TZID=Europe/London:20241207T130000
DTEND;TZID=Europe/London:20241207T180000
DTSTAMP:20241129T125655Z
URL:https://www.choosehowyoumove.co.uk/events/south-wigston-christmas-cape
 rs/
SUMMARY:South Wigston Christmas Capers
DESCRIPTION:Christmas Capers returns to South Wigston within the Borough of
  Oadby &amp\; Wigston on Saturday 7th December 2024.\n\nA great community 
 event for local community\, providing great atmosphere with entertainment 
 for all the family of all ages. The Choose How You Move team will be atten
 ding with lots of information about how to actively and sustainably get ar
 ound Oadby &amp\; Wigston and Leicestershire! \n\nLight Switch on takes p
 lace at 5.30pm\n&nbsp\;\n&nbsp\;
END:VEVENT
BEGIN:VTIMEZONE
TZID:Europe/London
X-LIC-LOCATION:Europe/London
BEGIN:STANDARD
DTSTART:20241027T010000
TZOFFSETFROM:+0100
TZOFFSETTO:+0000
TZNAME:GMT
END:STANDARD
END:VTIMEZONE
END:VCALENDAR