BEGIN:VCALENDAR
VERSION:2.0
PRODID:-//wp-events-plugin.com//7.2.3.1//EN
TZID:Europe/London
X-WR-TIMEZONE:Europe/London
BEGIN:VEVENT
UID:257@choosehowyoumove.co.uk
DTSTART;TZID=Europe/London:20230820T080000
DTEND;TZID=Europe/London:20230820T160000
DTSTAMP:20230706T142255Z
URL:https://www.choosehowyoumove.co.uk/events/the-big-bike-ride-riding-the
 -roads-for-a-good-cause/
SUMMARY:THE BIG BIKE RIDE - Riding the roads for a good cause
DESCRIPTION:A cycling event for everyone to enjoy.\nAre you a family lookin
 g for your children to learn to ride\, try out a balance bike\, gain a pro
 ficiency badge\, or ride together on one of our signed routes and all for
  a good cause? Then this is for you.\nDo you have a disability? Then come 
 along and learn about the opportunities that cycling has to offer you from
  WheelsForAll and help us for a good cause? Then this is for you.\nAre y
 ou an individual who wants to ride the roads for a good cause? Then this i
 s for you.\nAre you a cycling club\, keen for a challenge\, ready to eat u
 p those miles\, and all for a good cause? Then this is for you.\nThe Big B
 ike Ride\nA challenge to suit all. There are four signed routes\, 11 miles
 \, 23 miles\, 39 miles and 67 miles all set out for you to enjoy the South
  Leicestershire countryside as you cycle along. And all for a good cause.\
 nThe event is based in the gardens of Misterton Hall\, where children can 
 learn to ride and where cycling for the disabled will be found. It is also
  where the cycle routes start and end\, with a big welcome home from Lutte
 rworth's Town Crier!\nOn the return from your ride\, you will be entitled 
 to a FREE Hog Roast in a bun\, (vegetarian options are available) and be a
 ble to relax and enjoy the gardens whilst listening to live music. You cou
 ld maybe enjoy a cold beer\, or a cup of tea\, perhaps even a fizzy soft d
 rink.\nAnd remember\, by entering you will also be helping the Rotary Club
  to raise money for Epilepsy Action\, Prostaid and the MS Society. Whe
 n you have signed up\, you will be sent information on how to contact your
  chosen charity to get a free T shirt /cycling top and fundraising support
 .\nAll Nett proceeds from this event go to charity.
END:VEVENT
BEGIN:VTIMEZONE
TZID:Europe/London
X-LIC-LOCATION:Europe/London
BEGIN:DAYLIGHT
DTSTART:20230326T020000
TZOFFSETFROM:+0000
TZOFFSETTO:+0100
TZNAME:BST
END:DAYLIGHT
END:VTIMEZONE
END:VCALENDAR